BEGIN:VCALENDAR
VERSION:2.0
PRODID:-//hacksw/handcal//NONSGML v1.0//EN
CALSCALE:GREGORIAN
BEGIN:VEVENT
LOCATION:Hamburg
DESCRIPTION:
DTSTART:20220613T220000Z
DTEND:20220615T220000Z
SUMMARY:Aircraft Interiors Expo 2022
URL;VALUE=URI:https://nag.aero/event/aircraft-interiors-expo-2022/
DTSTAMP:20260423T141213Z
UID:69ea0c9d9a6ae
END:VEVENT
END:VCALENDAR