BEGIN:VCALENDAR
VERSION:2.0
PRODID:-//hacksw/handcal//NONSGML v1.0//EN
CALSCALE:GREGORIAN
BEGIN:VEVENT
LOCATION:Mierlo
DESCRIPTION:
DTSTART:20180114T220000Z
DTEND:20180114T220000Z
SUMMARY:Round table: Airport development in the Middle East / Airport Show
URL;VALUE=URI:https://nag.aero/event/round-table-airport-development-in-the-middle-east-airport-show/
DTSTAMP:20260423T014050Z
UID:69e95c821c641
END:VEVENT
END:VCALENDAR