BEGIN:VCALENDAR
VERSION:2.0
PRODID:-//hacksw/handcal//NONSGML v1.0//EN
CALSCALE:GREGORIAN
BEGIN:VEVENT
LOCATION:BRA
DESCRIPTION:
DTSTART:20230415T220000Z
DTEND:20230421T220000Z
SUMMARY:Mission sustainable aviation Brazil
URL;VALUE=URI:https://nag.aero/event/mission-sustainable-aviation-brazil/
DTSTAMP:20260419T232747Z
UID:69e548d31abfe
END:VEVENT
END:VCALENDAR