BEGIN:VCALENDAR
VERSION:2.0
PRODID:-//hacksw/handcal//NONSGML v1.0//EN
CALSCALE:GREGORIAN
BEGIN:VEVENT
LOCATION:Seattle
DESCRIPTION:
DTSTART:20231022T220000Z
DTEND:20231024T220000Z
SUMMARY:Mission to Boeing
URL;VALUE=URI:https://nag.aero/event/mission-to-boeing/
DTSTAMP:20260425T190444Z
UID:69ecf42c78324
END:VEVENT
END:VCALENDAR