BEGIN:VCALENDAR
VERSION:2.0
PRODID:-//hacksw/handcal//NONSGML v1.0//EN
CALSCALE:GREGORIAN
BEGIN:VEVENT
LOCATION:Delft
DESCRIPTION:
DTSTART:20241203T110000Z
DTEND:20241203T150000Z
SUMMARY:Electrifying Aircraft  "Batteries in Aerospace"
URL;VALUE=URI:https://nag.aero/event/electrifying-aircraft-batteries-in-aerospace/
DTSTAMP:20260420T231531Z
UID:69e6977339423
END:VEVENT
END:VCALENDAR